BEGIN:VCALENDAR
PRODID:-//Hannon Hill Events//Cascade CMS//EN
VERSION:2.0
X-WR-CALNAME:Test Tube Talk - Dr. Michael Misamore
X-WR-TIMEZONE:America/New_York
BEGIN:VTIMEZONE
TZID:America/New_York
BEGIN:DAYLIGHT
TZOFFSETFROM:-0500
TZOFFSETTO:-0400
TZNAME:EDT
DTSTART:19700308T020000
RRULE:FREQ=YEARLY;BYMONTH=3;BYDAY=2SU
END:DAYLIGHT
BEGIN:STANDARD
TZOFFSETFROM:-0400
TZOFFSETTO:-0500
TZNAME:EST
DTSTART:19701101T020000
RRULE:FREQ=YEARLY;BYMONTH=11;BYDAY=1SU
END:STANDARD
END:VTIMEZONE
BEGIN:VEVENT
DTSTART:20260205T163000
DTEND:20260205T173000
DTSTAMP:20260421T000515
UID:29c24958c0a803046f25cc9c23c2e8a5
CREATED:20260204T114524
DESCRIPTION:Temple College Test Tube Talks are presented by the Division o
 f Natural Sciences and feature presentations from research and career prof
 essionals working in academia and industry. Invited speakers share their r
 esearch\, ideas\, and scientific curiosity in an accessible way. These tal
 ks are designed for a general audience and offer a great opportunity to le
 arn something new in a relaxed\, welcoming setting.
LAST-MODIFIED:20260204T181444
SEQUENCE:0
STATUS:CONFIRMED
SUMMARY:Test Tube Talk - Dr. Michael Misamore
TRANSP:OPAQUE
END:VEVENT
END:VCALENDAR
