BEGIN:VCALENDAR
PRODID:-//Hannon Hill Events//Cascade CMS//EN
VERSION:2.0
X-WR-CALNAME:Temple College Orchestra Spring 2026 concert
X-WR-TIMEZONE:America/New_York
BEGIN:VTIMEZONE
TZID:America/New_York
BEGIN:DAYLIGHT
TZOFFSETFROM:-0500
TZOFFSETTO:-0400
TZNAME:EDT
DTSTART:19700308T020000
RRULE:FREQ=YEARLY;BYMONTH=3;BYDAY=2SU
END:DAYLIGHT
BEGIN:STANDARD
TZOFFSETFROM:-0400
TZOFFSETTO:-0500
TZNAME:EST
DTSTART:19701101T020000
RRULE:FREQ=YEARLY;BYMONTH=11;BYDAY=1SU
END:STANDARD
END:VTIMEZONE
BEGIN:VEVENT
DTSTART:20260421T193000
DTEND:20260421T213000
DTSTAMP:20260421T001340
UID:1c7c98d0c0a803045ac37cd58190e59d
CREATED:20260323T155700
DESCRIPTION:Temple College and Texas A&amp\;M University - Central Texas p
 resent the Temple College Orchestra&apos\;s Spring 2026 concert on Tuesday
 \, April 21\, 2026 at 7:30 pm.
LAST-MODIFIED:20260415T124009
SEQUENCE:0
STATUS:CONFIRMED
SUMMARY:Temple College Orchestra Spring 2026 concert
TRANSP:OPAQUE
END:VEVENT
END:VCALENDAR
