BEGIN:VCALENDAR
PRODID:-//Hannon Hill Events//Cascade CMS//EN
VERSION:2.0
X-WR-CALNAME:The Temple College Division of Fine Arts Presents
X-WR-TIMEZONE:America/New_York
BEGIN:VTIMEZONE
TZID:America/New_York
BEGIN:DAYLIGHT
TZOFFSETFROM:-0500
TZOFFSETTO:-0400
TZNAME:EDT
DTSTART:19700308T020000
RRULE:FREQ=YEARLY;BYMONTH=3;BYDAY=2SU
END:DAYLIGHT
BEGIN:STANDARD
TZOFFSETFROM:-0400
TZOFFSETTO:-0500
TZNAME:EST
DTSTART:19701101T020000
RRULE:FREQ=YEARLY;BYMONTH=11;BYDAY=1SU
END:STANDARD
END:VTIMEZONE
BEGIN:VEVENT
DTSTART:20260423T193000
DTEND:20260423T213000
DTSTAMP:20260421T001301
UID:7680d15bc0a803046f25cc9c1deb2726
CREATED:20260219T092439
DESCRIPTION:The Temple College Symphonic Band will hold its 250 Years of A
 merican Composers Concert at the Mary Alice Marshall Performing Arts Cente
 r on Thursday\, April 23.
LAST-MODIFIED:20260415T123658
SEQUENCE:0
STATUS:CONFIRMED
SUMMARY:The Temple College Division of Fine Arts Presents
TRANSP:OPAQUE
END:VEVENT
END:VCALENDAR
