BEGIN:VCALENDAR
PRODID:-//Hannon Hill Events//Cascade CMS//EN
VERSION:2.0
X-WR-CALNAME:TC Baseball vs. Weatherford
X-WR-TIMEZONE:America/New_York
BEGIN:VTIMEZONE
TZID:America/New_York
BEGIN:DAYLIGHT
TZOFFSETFROM:-0500
TZOFFSETTO:-0400
TZNAME:EDT
DTSTART:19700308T020000
RRULE:FREQ=YEARLY;BYMONTH=3;BYDAY=2SU
END:DAYLIGHT
BEGIN:STANDARD
TZOFFSETFROM:-0400
TZOFFSETTO:-0500
TZNAME:EST
DTSTART:19701101T020000
RRULE:FREQ=YEARLY;BYMONTH=11;BYDAY=1SU
END:STANDARD
END:VTIMEZONE
BEGIN:VEVENT
DTSTART:20260429T120000
DTEND:20260429T200000
DTSTAMP:20260421T000215
UID:76bd56b4c0a803046f25cc9cc8417300
CREATED:20260219T103045
DESCRIPTION:The Temple College Leopards baseball team hosts Weatherford Co
 llege in doubleheader action at the Danny Scott Sports Complex on Wednesda
 y\, April 29 starting at 12 pm.
LAST-MODIFIED:20260219T103045
SEQUENCE:0
STATUS:CONFIRMED
SUMMARY:TC Baseball vs. Weatherford
TRANSP:OPAQUE
END:VEVENT
END:VCALENDAR
